BEGIN:VCALENDAR
VERSION:2.0
PRODID:-//Official Chess - ECPv6.15.20//NONSGML v1.0//EN
CALSCALE:GREGORIAN
METHOD:PUBLISH
X-WR-CALNAME:Official Chess
X-ORIGINAL-URL:https://officialchess.org
X-WR-CALDESC:Events for Official Chess
REFRESH-INTERVAL;VALUE=DURATION:PT1H
X-Robots-Tag:noindex
X-PUBLISHED-TTL:PT1H
BEGIN:VTIMEZONE
TZID:America/New_York
BEGIN:DAYLIGHT
TZOFFSETFROM:-0500
TZOFFSETTO:-0400
TZNAME:EDT
DTSTART:20250309T070000
END:DAYLIGHT
BEGIN:STANDARD
TZOFFSETFROM:-0400
TZOFFSETTO:-0500
TZNAME:EST
DTSTART:20251102T060000
END:STANDARD
BEGIN:DAYLIGHT
TZOFFSETFROM:-0500
TZOFFSETTO:-0400
TZNAME:EDT
DTSTART:20260308T070000
END:DAYLIGHT
BEGIN:STANDARD
TZOFFSETFROM:-0400
TZOFFSETTO:-0500
TZNAME:EST
DTSTART:20261101T060000
END:STANDARD
BEGIN:DAYLIGHT
TZOFFSETFROM:-0500
TZOFFSETTO:-0400
TZNAME:EDT
DTSTART:20270314T070000
END:DAYLIGHT
BEGIN:STANDARD
TZOFFSETFROM:-0400
TZOFFSETTO:-0500
TZNAME:EST
DTSTART:20271107T060000
END:STANDARD
END:VTIMEZONE
BEGIN:VEVENT
DTSTART;TZID=America/New_York:20260502T083000
DTEND;TZID=America/New_York:20260502T123000
DTSTAMP:20260421T083851
CREATED:20260420T141352Z
LAST-MODIFIED:20260420T141605Z
UID:10000687-1777710600-1777725000@officialchess.org
SUMMARY:US Chess Academy - UES - Saturday\, May 2nd\, 2026
DESCRIPTION:https://www.uschessacademy.com/usca-tournaments \n\n\n\n\n9:00 AM\nUSCA UES Tournament with USCA Tournaments\n3 hours @ $55.00 \n\nUSCF rated and unrated sections. Saturdays\, 9 AM start\, done by lunch.\n\nBrick Church\, 62 E 92nd Street\n\n\n\n\n\n\n\n\n\n\nTwo Sections:\n\n\n\n\n\n\n\n\n\n\nUSCF Rated – OPEN  \n\nPlay three rated games with players close to your rating. Small groups ensure competitive matches.\nRequires active USCF membership.\nPlayers without an active USCF ID cannot play in this section. Join or renew →\nPrizes: Trophies top 3 + cash\, medals for all others.\n\n\n\n\n\n\n\n\n\n\n\nRookie – Unrated Swiss\n\n\n\n\n\n\n\n\n\n\n\nPerfect for beginners and first-time tournament players designed to be fun and welcoming for young beginners.\nNo USCF membership required.\nPrizes: Trophies top 3\, medals for all others.\n\n\n\n\n\n\n\nPrices:\nSingle Tournament\n$55 regular / $45 early bird\nPerfect for trying us out. Register 10+ days before and use code EARLYBIRD to save $10. Master Analysis available as add-on for $70.\n\n\n\n\n\n\n\n\n\n\n\nSix Pack\nDescription: $255 / Save $75\nGreat for the season. Just $42.50 per tournament. Valid for 6 months. Use for any family member. You’ll receive a code via email to use when registering.\n\n\n\n\n\n\n\n\n\n\n\nTen Pack\n$400 / Save $150\n\n\n\n\n\n\n\n\n\n\nHow to Register\n\n\n\n\n\n\n\n\n\n\nBought a pack?\nCheck your email for your redemption code. Select your tournament date below\, fill out the form\, choose your section\, and enter your code at checkout. Your pack will automatically deduct one entry. \nRegistering for a single tournament?\nSelect your date below. \nEarly bird discount: Register 7+ days early and use code EARLYBIRD at checkout to save $10 (does not apply to packs). \nPlaying in the Open section?\nYou’ll need an active USCF membership and your USCF ID number to complete registration. Join or renew here → \nEnhance Your Experience \nDuring checkout\, you can add the Master Training Dojo\, three hours of supervised training with our masters while your child plays in the tournament. Limited spots available.
URL:https://officialchess.org/event/us-chess-academy-ues-saturday-may-2nd-2026/
LOCATION:Brick Church\, 62 East 92nd Street\, New York\, NY\, 10128\, United States
ATTACH;FMTTYPE=image/png:https://officialchess.org/wp-content/uploads/2026/04/US.CHESS-academy.png
END:VEVENT
BEGIN:VEVENT
DTSTART;TZID=America/New_York:20260516T083000
DTEND;TZID=America/New_York:20260516T123000
DTSTAMP:20260421T083851
CREATED:20260420T141553Z
LAST-MODIFIED:20260420T141553Z
UID:10000688-1778920200-1778934600@officialchess.org
SUMMARY:US Chess Academy - UES - Saturday\, May 16nd\, 2026
DESCRIPTION:https://www.uschessacademy.com/usca-tournaments \n\n\n\n\n9:00 AM\nUSCA UES Tournament with USCA Tournaments\n3 hours @ $55.00 \n\nUSCF rated and unrated sections. Saturdays\, 9 AM start\, done by lunch.\n\nBrick Church\, 62 E 92nd Street\n\n\n\n\n\n\n\n\n\n\nTwo Sections:\n\n\n\n\n\n\n\n\n\n\nUSCF Rated – OPEN  \n\nPlay three rated games with players close to your rating. Small groups ensure competitive matches.\nRequires active USCF membership.\nPlayers without an active USCF ID cannot play in this section. Join or renew →\nPrizes: Trophies top 3 + cash\, medals for all others.\n\n\n\n\n\n\n\n\n\n\n\nRookie – Unrated Swiss\n\n\n\n\n\n\n\n\n\n\n\nPerfect for beginners and first-time tournament players designed to be fun and welcoming for young beginners.\nNo USCF membership required.\nPrizes: Trophies top 3\, medals for all others.\n\n\n\n\n\n\n\nPrices:\nSingle Tournament\n$55 regular / $45 early bird\nPerfect for trying us out. Register 10+ days before and use code EARLYBIRD to save $10. Master Analysis available as add-on for $70.\n\n\n\n\n\n\n\n\n\n\n\nSix Pack\nDescription: $255 / Save $75\nGreat for the season. Just $42.50 per tournament. Valid for 6 months. Use for any family member. You’ll receive a code via email to use when registering.\n\n\n\n\n\n\n\n\n\n\n\nTen Pack\n$400 / Save $150\n\n\n\n\n\n\n\n\n\n\nHow to Register\n\n\n\n\n\n\n\n\n\n\nBought a pack?\nCheck your email for your redemption code. Select your tournament date below\, fill out the form\, choose your section\, and enter your code at checkout. Your pack will automatically deduct one entry. \nRegistering for a single tournament?\nSelect your date below. \nEarly bird discount: Register 7+ days early and use code EARLYBIRD at checkout to save $10 (does not apply to packs). \nPlaying in the Open section?\nYou’ll need an active USCF membership and your USCF ID number to complete registration. Join or renew here → \nEnhance Your Experience \nDuring checkout\, you can add the Master Training Dojo\, three hours of supervised training with our masters while your child plays in the tournament. Limited spots available.
URL:https://officialchess.org/event/us-chess-academy-ues-saturday-may-16nd-2026/
LOCATION:Brick Church\, 62 East 92nd Street\, New York\, NY\, 10128\, United States
ATTACH;FMTTYPE=image/png:https://officialchess.org/wp-content/uploads/2026/04/US.CHESS-academy.png
END:VEVENT
BEGIN:VEVENT
DTSTART;TZID=America/New_York:20260606T083000
DTEND;TZID=America/New_York:20260606T123000
DTSTAMP:20260421T083851
CREATED:20260420T141929Z
LAST-MODIFIED:20260420T141929Z
UID:10000689-1780734600-1780749000@officialchess.org
SUMMARY:US Chess Academy - UES - Saturday\, June 6th\, 2026
DESCRIPTION:https://www.uschessacademy.com/usca-tournaments \n\n\n\n\n9:00 AM\nUSCA UES Tournament with USCA Tournaments\n3 hours @ $55.00 \n\nUSCF rated and unrated sections. Saturdays\, 9 AM start\, done by lunch.\n\nBrick Church\, 62 E 92nd Street\n\n\n\n\n\n\n\n\n\n\nUSCA’s end of season championship event. USCF rated and unrated sections\, larger trophies for section champions\, team trophies for top schools\, and medals for all participants. Saturday\, June 6 at Brick Church. First round 9 AM\, awards ceremony to follow the final round. Pre registration required. \nTwo Sections:\n\n\n\n\n\n\n\n\n\n\nUSCF Rated – OPEN  \n\nPlay three rated games with players close to your rating. Small groups ensure competitive matches.\nRequires active USCF membership.\nPlayers without an active USCF ID cannot play in this section. Join or renew →\nPrizes: Trophies top 3 + cash\, medals for all others.\n\n\n\n\n\n\n\n\n\n\n\nRookie – Unrated Swiss\n\n\n\n\n\n\n\n\n\n\n\nPerfect for beginners and first-time tournament players designed to be fun and welcoming for young beginners.\nNo USCF membership required.\nPrizes: Trophies top 3\, medals for all others.\n\n\n\n\n\n\n\nPrices:\nSingle Tournament\n$55 regular / $45 early bird\nPerfect for trying us out. Register 10+ days before and use code EARLYBIRD to save $10. Master Analysis available as add-on for $70.\n\n\n\n\n\n\n\n\n\n\n\nSix Pack\nDescription: $255 / Save $75\nGreat for the season. Just $42.50 per tournament. Valid for 6 months. Use for any family member. You’ll receive a code via email to use when registering.\n\n\n\n\n\n\n\n\n\n\n\nTen Pack\n$400 / Save $150\n\n\n\n\n\n\n\n\n\n\nHow to Register\n\n\n\n\n\n\n\n\n\n\nBought a pack?\nCheck your email for your redemption code. Select your tournament date below\, fill out the form\, choose your section\, and enter your code at checkout. Your pack will automatically deduct one entry. \nRegistering for a single tournament?\nSelect your date below. \nEarly bird discount: Register 7+ days early and use code EARLYBIRD at checkout to save $10 (does not apply to packs). \nPlaying in the Open section?\nYou’ll need an active USCF membership and your USCF ID number to complete registration. Join or renew here → \nEnhance Your Experience \nDuring checkout\, you can add the Master Training Dojo\, three hours of supervised training with our masters while your child plays in the tournament. Limited spots available.
URL:https://officialchess.org/event/us-chess-academy-ues-saturday-june-6th-2026/
LOCATION:Brick Church\, 62 East 92nd Street\, New York\, NY\, 10128\, United States
ATTACH;FMTTYPE=image/png:https://officialchess.org/wp-content/uploads/2026/04/US.CHESS-academy.png
END:VEVENT
END:VCALENDAR