BEGIN:VCALENDAR
VERSION:2.0
PRODID:-//Official Chess - ECPv6.15.20//NONSGML v1.0//EN
CALSCALE:GREGORIAN
METHOD:PUBLISH
X-WR-CALNAME:Official Chess
X-ORIGINAL-URL:https://officialchess.org
X-WR-CALDESC:Events for Official Chess
REFRESH-INTERVAL;VALUE=DURATION:PT1H
X-Robots-Tag:noindex
X-PUBLISHED-TTL:PT1H
BEGIN:VTIMEZONE
TZID:America/New_York
BEGIN:DAYLIGHT
TZOFFSETFROM:-0500
TZOFFSETTO:-0400
TZNAME:EDT
DTSTART:20250309T070000
END:DAYLIGHT
BEGIN:STANDARD
TZOFFSETFROM:-0400
TZOFFSETTO:-0500
TZNAME:EST
DTSTART:20251102T060000
END:STANDARD
BEGIN:DAYLIGHT
TZOFFSETFROM:-0500
TZOFFSETTO:-0400
TZNAME:EDT
DTSTART:20260308T070000
END:DAYLIGHT
BEGIN:STANDARD
TZOFFSETFROM:-0400
TZOFFSETTO:-0500
TZNAME:EST
DTSTART:20261101T060000
END:STANDARD
BEGIN:DAYLIGHT
TZOFFSETFROM:-0500
TZOFFSETTO:-0400
TZNAME:EDT
DTSTART:20270314T070000
END:DAYLIGHT
BEGIN:STANDARD
TZOFFSETFROM:-0400
TZOFFSETTO:-0500
TZNAME:EST
DTSTART:20271107T060000
END:STANDARD
END:VTIMEZONE
BEGIN:VEVENT
DTSTART;TZID=America/New_York:20260417T173000
DTEND;TZID=America/New_York:20260417T203000
DTSTAMP:20260421T061735
CREATED:20260414T162154Z
LAST-MODIFIED:20260414T172239Z
UID:10000686-1776447000-1776457800@officialchess.org
SUMMARY:Friday Night Lights Chess @ IS 318
DESCRIPTION:https://www.chessnycplayngo.org/event-details/friday-night-lights-chess-is-318-1 \nFriday Night Lights Chess @ IS 318\n\nFri\, Apr 17 \n |  \n101 Walton St \n\n\nJoin Play N’ Go on Friday Nights! Hosted @ IS 318\, Home of the National Middle School Chess Champion Team! Absolute Beginners to Masters 3 Rounds of Play\, USCF Uniquely Double-Rated Meets Cash Prizes for All Sections! \n\nTime & Location\n\n\nApr 17\, 2026\, 5:30 PM – 8:30 PM \n101 Walton St\, 101 Walton St\, Brooklyn\, NY 11206\, USA \n\n\n\n\nAbout the event\n\n\n\nPLAY N’ GO™ CHESS MEETS \n3 Rounds of Triple Rated Game 25 D/5 Play! \n4 Player Sections\, Top 4 Players in Section 1\, Others Then Placed in Descending Order \nUSCF Membership Required for All Plays:  https://chessnyc.com/product/uscf-membership-9/
URL:https://officialchess.org/event/friday-night-lights-chess-is-318/
LOCATION:IS 318\, 101 Walton Street\, Brooklyn\, NY\, 11206\, United States
ATTACH;FMTTYPE=image/jpeg:https://officialchess.org/wp-content/uploads/2026/04/318-chess-nyc.jpeg
END:VEVENT
END:VCALENDAR